BEGIN:VCALENDAR
VERSION:2.0
PRODID:-//wp-events-plugin.com//7.2.3.1//EN
TZID:Europe/London
X-WR-TIMEZONE:Europe/London
BEGIN:VEVENT
UID:25@kulturbaeretswil.ch
DTSTART;TZID=Europe/Berlin:20260314T200000
DTEND;TZID=Europe/Berlin:20260314T223000
DTSTAMP:20260315T204522Z
URL:https://kulturbaeretswil.ch/events/lapsus-ego/
SUMMARY:Lapsus – «Ego!»
DESCRIPTION:\n*** Es sind noch letzte Plätze im Online-Vorverkauf verfügb
 ar – es werden aber auch weitere Plätze an der Abendkasse erhältlich s
 ein!! – wir freuen uns auf Ihren Besuch ***\n\nLapsus präsentiert das n
 eue Programm: «Ego!» Wer hat hier eigentlich das Sagen?\nWährend auf de
 r grossen Weltbühne der Narzissmus seine Blüten treibt\, steht bei Lapsu
 s eine Revolte an: Peter Winkler und Christian Höhener\, die Menschen hin
 ter dem Kunstprodukt Hitzig und Gschwind\, wollen sich nicht mehr von ihre
 n Bühnenfiguren dominieren lassen. Jetzt sprechen sie! Schliesslich sind 
 sie es\, die den beiden das Leben einhauchen. «Falsch!»\, halten ihre Al
 ter Egos entgegen. «Ohne uns seid ihr nichts!» &nbsp\; In ihrem achten B
 ühnenprogramm stellen sich die beiden Komiker die grosse Frage nach der U
 rheberschaft hinter den vielen Rollen\, die man im Leben so spielt. Dafür
  lassen sie noch einmal alle ihre Figuren auftreten\, die sie in ihrer Kar
 riere geschaffen haben: Von den schwingenden Bauern Sellerie und Rinderwah
 n\, mit denen alles begonnen hat\, über die singenden Schwaben Harald &am
 p\; Harald bis zu den kultigen Lokalmatadoren Theo Hitzig und Bruno Gschwi
 nd. Neu im Reigen: Peter und Christian. Die Echten also\, in Fleisch und B
 lut. &nbsp\; Das verspricht ein heiles Durcheinander\, viele grosse Lachnu
 mmern sowie ein rasantes Spiel mit allen künstlerischen und technischen M
 itteln – wie es Lapsus auszeichnet. Bleibt die Frage:&nbsp\; Wer genau i
 st es\, der sich hier so gross aufspielt?&nbsp\;\n&nbsp\;\n&nbsp\; Ticketp
 reise:\n\n 	Fr. 50.00 Erwachsene\n 	Fr. 45.00 AHV / IV\n 	Fr. 15.00 Kinder
  und Jugendliche bis 16 Jahre / Legi\n\nVorverkauf: Tickets können ganz e
 infach online auf Eventfrog.ch gekauft werden\n\nHinweis: Tickets sind jew
 eils auch noch an der Abendkasse erhältlich!\n&nbsp\; Türöffnung &amp\;
 &nbsp\;kultur-bar&nbsp\;ab:&nbsp\;19:15 &nbsp\; Webseite:&nbsp\;www.lapsus
 .ch&nbsp\;\n\n&nbsp\;\n\n&nbsp\;\n\n&nbsp\;\n\n&nbsp\;\n\n&nbsp\;\n\n&nbsp
 \;\n\n&nbsp\;\n\n&nbsp\;\n\n&nbsp\;\n\n&nbsp\;\n\n&nbsp\;\n\n&nbsp\;\n\n&n
 bsp\;\n\n&nbsp\;\n\n&nbsp\;\n\n&nbsp\;\n\n&nbsp\;\n\n&nbsp\;
ATTACH;FMTTYPE=image/jpeg:https://kulturbaeretswil.ch/wp-content/uploads/2
 025/04/Lapsus-Ego-Visual-mit-Schrift-1zu1-scaled.jpg
CATEGORIES:Kultur
LOCATION:Mehrzweckhalle Dorf\, Bahnhofstrasse 8\, 8344 Bäretswil\, Schweiz
 \, 8344\, Switzerland
X-APPLE-STRUCTURED-LOCATION;VALUE=URI;X-ADDRESS=Bahnhofstrasse 8\, 8344 Bä
 retswil\, Schweiz\, 8344\, Switzerland;X-APPLE-RADIUS=100;X-TITLE=Mehrzwec
 khalle Dorf:geo:0,0
END:VEVENT
BEGIN:VTIMEZONE
TZID:Europe/Berlin
X-LIC-LOCATION:Europe/Berlin
BEGIN:STANDARD
DTSTART:20251026T020000
TZOFFSETFROM:+0200
TZOFFSETTO:+0100
TZNAME:CET
END:STANDARD
END:VTIMEZONE
END:VCALENDAR